BEGIN:VCALENDAR
VERSION:2.0
METHOD:PUBLISH
PRODID:-//Accessible Web Design//My Calendar//http://www.joedolson.com//v//EN';
BEGIN:VEVENT
UID:24-21
LOCATION:
SUMMARY:AIA CE Classes
DTSTAMP:20231026T083000
ORGANIZER;CN=espyadmin:MAILTO:tim.hurd@espylumber.com
DTSTART:20231026T083000
DTEND:20231026T153000
CATEGORIES:General
URL;VALUE=URI:
DESCRIPTION;ENCODING=QUOTED-PRINTABLE:Espy will be hosting it's annual fall AIA CE classes at our Okatie store Oct. 26.If you are interested in attending please contact Don Owens at dono@espylumber.com  
END:VEVENT
END:VCALENDAR